BEGIN:VCALENDAR
VERSION:2.0
PRODID:-//Plone.org//NONSGML plone.app.event//EN
X-WR-TIMEZONE:Europe/Madrid
BEGIN:VEVENT
SUMMARY:Festa Major d'Olzinelles
DTSTART;TZID=Europe/Madrid;VALUE=DATE-TIME:20100807T100000
DTEND;TZID=Europe/Madrid;VALUE=DATE-TIME:20100807T110000
DTSTAMP;VALUE=DATE-TIME:20260420T195821Z
UID:8da3da7e8ba3ac1135f1f99bf49f7f3d
CREATED;VALUE=DATE-TIME:20100807T000000Z
CATEGORIES:Dansa,Festa,Infantils,Música
LOCATION:Esplanada de l'Església de Sant Esteve d'Olzinelles - Olzinelles
DESCRIPTION:Activitats infantils, sopar popular i ball
URL:https://www.santceloni.cat/document.php?id=6292
END:VEVENT
END:VCALENDAR