BEGIN:VCALENDAR
VERSION:2.0
PRODID:-//Plone.org//NONSGML plone.app.event//EN
X-WR-TIMEZONE:Europe/Madrid
BEGIN:VEVENT
SUMMARY:Sortida cultural Palau de la Música
DTSTART;TZID=Europe/Madrid;VALUE=DATE-TIME:20060325T093000
DTEND;TZID=Europe/Madrid;VALUE=DATE-TIME:20060325T103000
DTSTAMP;VALUE=DATE-TIME:20260422T043359Z
UID:b80c04d513ff9978af7e00ea00927eef
CREATED;VALUE=DATE-TIME:20060325T000000Z
CATEGORIES:Exposició
ORGANIZER:Ajuntament de Sant Celoni
COMMENT:Preu: 18 &euro;
Durada: fins les 2 del migdia
URL:https://www.santceloni.cat/document.php?id=633
END:VEVENT
END:VCALENDAR