BEGIN:VCALENDAR
VERSION:2.0
PRODID:-//Plone.org//NONSGML plone.app.event//EN
X-WR-TIMEZONE:Europe/Madrid
BEGIN:VEVENT
SUMMARY:Dóna sang per a la festa
DTSTART;TZID=Europe/Madrid;VALUE=DATE-TIME:20100828T100000
DTEND;TZID=Europe/Madrid;VALUE=DATE-TIME:20100828T110000
DTSTAMP;VALUE=DATE-TIME:20260425T062034Z
UID:b5611feef94d66f40b43bf1140d992e9
CREATED;VALUE=DATE-TIME:20100828T000000Z
LOCATION:Can Ramis - Plaça de la Vila, 25
ORGANIZER:Associació de Donants de Sang del Vallès Oriental
COMMENT:Durada: de 10 a 12 del midia i de 5 a 9 del vespre
DESCRIPTION:Capta de sang a Can Ramis, puntuable pel Corremonts
URL:https://www.santceloni.cat/document.php?id=6408
END:VEVENT
END:VCALENDAR