BEGIN:VCALENDAR
VERSION:2.0
PRODID:-//Plone.org//NONSGML plone.app.event//EN
X-WR-TIMEZONE:Europe/Madrid
BEGIN:VEVENT
SUMMARY:Festa Major
DTSTART;TZID=Europe/Madrid;VALUE=DATE-TIME:20100904T090000
DTEND;TZID=Europe/Madrid;VALUE=DATE-TIME:20100904T100000
DTSTAMP;VALUE=DATE-TIME:20260422T070924Z
UID:2dfbd547e8a38a8ace76a405c0796854
CREATED;VALUE=DATE-TIME:20100904T000000Z
CATEGORIES:Esports,Mostra,Festa,Infantils,Música
DESCRIPTION:Actes de dissabte, dia 4
URL:https://www.santceloni.cat/document.php?id=6451
END:VEVENT
END:VCALENDAR