BEGIN:VCALENDAR
VERSION:2.0
PRODID:-//Plone.org//NONSGML plone.app.event//EN
X-WR-TIMEZONE:Europe/Madrid
BEGIN:VEVENT
SUMMARY:150è aniversari de l'arribada del ferrocarril 1860-2010
DTSTART;TZID=Europe/Madrid;VALUE=DATE-TIME:20101113T190000
DTEND;TZID=Europe/Madrid;VALUE=DATE-TIME:20101113T200000
DTSTAMP;VALUE=DATE-TIME:20260421T114803Z
UID:1ee8b629a78b28d5fa4bb81eed4b9b4c
CREATED;VALUE=DATE-TIME:20101113T000000Z
CATEGORIES:Exposició
LOCATION:Rectoria Vella - Edifici_Rectoria_Vella
COMMENT:Preu: gratuït
DESCRIPTION:Exposició a la Rectoria Vella
URL:https://www.santceloni.cat/document.php?id=6681
END:VEVENT
END:VCALENDAR