BEGIN:VCALENDAR
VERSION:2.0
PRODID:-//Plone.org//NONSGML plone.app.event//EN
X-WR-TIMEZONE:Europe/Madrid
BEGIN:VEVENT
SUMMARY:Confidències, escultures d'Hugo González
DTSTART;TZID=Europe/Madrid;VALUE=DATE-TIME:20101218T190000
DTEND;TZID=Europe/Madrid;VALUE=DATE-TIME:20101218T200000
DTSTAMP;VALUE=DATE-TIME:20260421T233526Z
UID:3d90f4a954e7b6c7d06437e2a93de5cd
CREATED;VALUE=DATE-TIME:20101218T000000Z
CATEGORIES:Exposició
LOCATION:Rectoria Vella - Edifici_Rectoria_Vella
DESCRIPTION:Inauguració de l'exposició
URL:https://www.santceloni.cat/document.php?id=6885
END:VEVENT
END:VCALENDAR