BEGIN:VCALENDAR
VERSION:2.0
PRODID:-//Plone.org//NONSGML plone.app.event//EN
X-WR-TIMEZONE:Europe/Madrid
BEGIN:VEVENT
SUMMARY:Diada sardanista
DTSTART;TZID=Europe/Madrid;VALUE=DATE-TIME:20110102T120000
DTEND;TZID=Europe/Madrid;VALUE=DATE-TIME:20110102T130000
DTSTAMP;VALUE=DATE-TIME:20260422T052026Z
UID:a6d7271aab92dc3c52403458af43e968
CREATED;VALUE=DATE-TIME:20110102T000000Z
CATEGORIES:Dansa,Música
LOCATION:Plaça Comte del Montseny - Espais_Sant_Celoni_18
ORGANIZER:Agrupació Sardanista Baix Montseny
DESCRIPTION:Festes de Nadal
URL:https://www.santceloni.cat/document.php?id=6907
END:VEVENT
END:VCALENDAR