BEGIN:VCALENDAR
VERSION:2.0
PRODID:-//Plone.org//NONSGML plone.app.event//EN
X-WR-TIMEZONE:Europe/Madrid
BEGIN:VEVENT
SUMMARY:Macedònia, concert de Nadal
DTSTART;TZID=Europe/Madrid;VALUE=DATE-TIME:20110102T180000
DTEND;TZID=Europe/Madrid;VALUE=DATE-TIME:20110102T190000
DTSTAMP;VALUE=DATE-TIME:20260422T040133Z
UID:7c732b51896e4ca5bd2645131514dc91
CREATED;VALUE=DATE-TIME:20110102T000000Z
CATEGORIES:Música
LOCATION:Plaça de la Vila - PlaçadelaVila_SantCeloni
DESCRIPTION:Festes de Nadal
URL:https://www.santceloni.cat/document.php?id=6951
END:VEVENT
END:VCALENDAR