BEGIN:VCALENDAR
VERSION:2.0
PRODID:-//Plone.org//NONSGML plone.app.event//EN
X-WR-TIMEZONE:Europe/Madrid
BEGIN:VEVENT
SUMMARY:Campanya contra el càncer
DTSTART;TZID=Europe/Madrid;VALUE=DATE-TIME:20110212T190000
DTEND;TZID=Europe/Madrid;VALUE=DATE-TIME:20110212T200000
DTSTAMP;VALUE=DATE-TIME:20260422T013456Z
UID:cb6dbe443eb741d6b4e73739aeb4413b
CREATED;VALUE=DATE-TIME:20110212T000000Z
CATEGORIES:Exposició
LOCATION:Can Ramis - Pl. de la Vila, 25
ORGANIZER:Associació Catalunya contra el càncer de Sant Celoni
DESCRIPTION:Exposició i venda de manualitats a Can Ramis
URL:https://www.santceloni.cat/document.php?id=7101
END:VEVENT
END:VCALENDAR