BEGIN:VCALENDAR
VERSION:2.0
PRODID:-//Plone.org//NONSGML plone.app.event//EN
X-WR-TIMEZONE:Europe/Madrid
BEGIN:VEVENT
SUMMARY:Curs: Màrqueting
DTSTART;TZID=Europe/Madrid;VALUE=DATE-TIME:20110510T160000
DTEND;TZID=Europe/Madrid;VALUE=DATE-TIME:20110510T170000
DTSTAMP;VALUE=DATE-TIME:20260421T233541Z
UID:0e3d666719e4f8de1d4fd7ca859bd331
CREATED;VALUE=DATE-TIME:20110510T000000Z
CATEGORIES:Cursos
LOCATION:Sax Sala - Montserrat, 28
COMMENT:Preu: gratuït
Durada: fins a les 20h
DESCRIPTION:Cursos per a emprenedors febrer-juny
URL:https://www.santceloni.cat/document.php?id=7281
END:VEVENT
END:VCALENDAR