BEGIN:VCALENDAR
VERSION:2.0
PRODID:-//Plone.org//NONSGML plone.app.event//EN
X-WR-TIMEZONE:Europe/Madrid
BEGIN:VEVENT
SUMMARY:Passi de la pel.lícula: Garage Olimpo (Marco Bechis, 1999)
DTSTART;TZID=Europe/Madrid;VALUE=DATE-TIME:20060518T213000
DTEND;TZID=Europe/Madrid;VALUE=DATE-TIME:20060518T223000
DTSTAMP;VALUE=DATE-TIME:20260424T120901Z
UID:5a69785b40eb93852e03c4c99c06cba3
CREATED;VALUE=DATE-TIME:20060518T000000Z
CATEGORIES:Cinema
LOCATION:Casal Quico Sabaté
ORGANIZER:Casal Quico Sabaté
COMMENT:Preu: Lliure
DESCRIPTION:1er Cicle de Cinema Social al Casal
URL:https://www.santceloni.cat/document.php?id=748
END:VEVENT
END:VCALENDAR