BEGIN:VCALENDAR
VERSION:2.0
PRODID:-//Plone.org//NONSGML plone.app.event//EN
X-WR-TIMEZONE:Europe/Madrid
BEGIN:VEVENT
SUMMARY:Eleccions del Club Esportiu Sant Celoni
DTSTART;TZID=Europe/Madrid;VALUE=DATE-TIME:20110529T090000
DTEND;TZID=Europe/Madrid;VALUE=DATE-TIME:20110529T100000
DTSTAMP;VALUE=DATE-TIME:20260422T075117Z
UID:f3c801295366f656a8809bbf55f34214
CREATED;VALUE=DATE-TIME:20110529T000000Z
CATEGORIES:Esports
LOCATION:Camp Municipal d'esports - Pg. dels Esports, s/n
ORGANIZER:Club Esportiu Sant Celoni
COMMENT:Durada: fins les 9 del vespre
URL:https://www.santceloni.cat/document.php?id=7623
END:VEVENT
END:VCALENDAR