BEGIN:VCALENDAR
VERSION:2.0
PRODID:-//Plone.org//NONSGML plone.app.event//EN
X-WR-TIMEZONE:Europe/Madrid
BEGIN:VEVENT
SUMMARY:Made In Montseny Festival
DTSTART;TZID=Europe/Madrid;VALUE=DATE-TIME:20110702T100000
DTEND;TZID=Europe/Madrid;VALUE=DATE-TIME:20110702T110000
DTSTAMP;VALUE=DATE-TIME:20260422T152948Z
UID:bab961bed4c1a496dd0c5284b74129dc
CREATED;VALUE=DATE-TIME:20110702T000000Z
CATEGORIES:Festa
LOCATION:Parc de la Rectoria Vella - Parc de la Rectoria Vella
ORGANIZER:JASC (Joventut Alternativa Sant Celoni)
COMMENT:Durada: Tot el dia
DESCRIPTION:I Aniversari JASC (Joventut Alternativa Sant Celoni)
URL:https://www.santceloni.cat/document.php?id=7841
END:VEVENT
END:VCALENDAR