BEGIN:VCALENDAR
VERSION:2.0
PRODID:-//Plone.org//NONSGML plone.app.event//EN
X-WR-TIMEZONE:Europe/Madrid
BEGIN:VEVENT
SUMMARY:Ball de l'Esplai
DTSTART;TZID=Europe/Madrid;VALUE=DATE-TIME:20110724T180000
DTEND;TZID=Europe/Madrid;VALUE=DATE-TIME:20110724T190000
DTSTAMP;VALUE=DATE-TIME:20260425T124938Z
UID:0e509e92114ef249acb2890ef1928a48
CREATED;VALUE=DATE-TIME:20110724T000000Z
CATEGORIES:Música
LOCATION:Sala gran de l'Ateneu - Germà Emilià, 1
DESCRIPTION:Amb Duo Marcelo
URL:https://www.santceloni.cat/document.php?id=7862
END:VEVENT
END:VCALENDAR