BEGIN:VCALENDAR
VERSION:2.0
PRODID:-//Plone.org//NONSGML plone.app.event//EN
X-WR-TIMEZONE:Europe/Madrid
BEGIN:VEVENT
SUMMARY:Dijous a la fresca
DTSTART;TZID=Europe/Madrid;VALUE=DATE-TIME:20110804T220000
DTEND;TZID=Europe/Madrid;VALUE=DATE-TIME:20110804T230000
DTSTAMP;VALUE=DATE-TIME:20260422T005652Z
UID:2f109a83743c2237556b980771157584
CREATED;VALUE=DATE-TIME:20110804T000000Z
CATEGORIES:Dansa,Teatre
LOCATION:Plaça de la Biblioteca - Plaça de la Biblioteca
COMMENT:Durada: 60 minuts
DESCRIPTION:Circ a càrrec de Mumusic Circus
URL:https://www.santceloni.cat/document.php?id=7865
END:VEVENT
END:VCALENDAR