BEGIN:VCALENDAR
VERSION:2.0
PRODID:-//Plone.org//NONSGML plone.app.event//EN
X-WR-TIMEZONE:Europe/Madrid
BEGIN:VEVENT
SUMMARY:Xerrada informativa sobre nutrició infantil
DTSTART;TZID=Europe/Madrid;VALUE=DATE-TIME:20110617T173000
DTEND;TZID=Europe/Madrid;VALUE=DATE-TIME:20110617T183000
DTSTAMP;VALUE=DATE-TIME:20260422T205232Z
UID:ab17c3cbcef4c07ad07043f48780a2b3
CREATED;VALUE=DATE-TIME:20110617T000000Z
CATEGORIES:Conferència
LOCATION:CME Sot de les Granotes - Francesc Macià, 15
DESCRIPTION:al CME Sot de les Granotes
URL:https://www.santceloni.cat/document.php?id=7927
END:VEVENT
END:VCALENDAR