BEGIN:VCALENDAR
VERSION:2.0
PRODID:-//Plone.org//NONSGML plone.app.event//EN
X-WR-TIMEZONE:Europe/Madrid
BEGIN:VEVENT
SUMMARY:Mercat de la Ganga
DTSTART;TZID=Europe/Madrid;VALUE=DATE-TIME:20120204T100000
DTEND;TZID=Europe/Madrid;VALUE=DATE-TIME:20120204T110000
DTSTAMP;VALUE=DATE-TIME:20260421T233200Z
UID:eed5d6d691681cfba654878f31825b79
CREATED;VALUE=DATE-TIME:20120204T000000Z
CATEGORIES:Mostra
LOCATION:Carrer Anselm Clavé
ORGANIZER:Associació de Veïns i Comerciants Anselm Clavé Centre
COMMENT:Durada: tot el dia
DESCRIPTION:ATENCIÓ! Ajornat a dissabte dia 11
URL:https://www.santceloni.cat/document.php?id=8537
END:VEVENT
END:VCALENDAR