BEGIN:VCALENDAR
VERSION:2.0
PRODID:-//Plone.org//NONSGML plone.app.event//EN
X-WR-TIMEZONE:Europe/Madrid
BEGIN:VEVENT
SUMMARY:Volta al Catllaràs, pels Camins del Carbó
DTSTART;TZID=Europe/Madrid;VALUE=DATE-TIME:20111211T070000
DTEND;TZID=Europe/Madrid;VALUE=DATE-TIME:20111211T080000
DTSTAMP;VALUE=DATE-TIME:20260421T212624Z
UID:fd3b048496d018370017cfba6891b2b4
CREATED;VALUE=DATE-TIME:20111211T000000Z
CATEGORIES:Esports
LOCATION:Plaça Comte del Montseny - Plaça Comte del Montseny
ORGANIZER:CESC
COMMENT:Preu: Socis CESC 13&euro;. No socis 20&euro;. Menors 14 anys 7 &euro;
DESCRIPTION:Activitats del CESC - Senders
URL:https://www.santceloni.cat/document.php?id=8550
END:VEVENT
END:VCALENDAR