BEGIN:VCALENDAR
VERSION:2.0
PRODID:-//Plone.org//NONSGML plone.app.event//EN
X-WR-TIMEZONE:Europe/Madrid
BEGIN:VEVENT
SUMMARY:Teatre: Cancún, a càrrec de TrocaTeatre
DTSTART;TZID=Europe/Madrid;VALUE=DATE-TIME:20120428T220000
DTEND;TZID=Europe/Madrid;VALUE=DATE-TIME:20120428T230000
DTSTAMP;VALUE=DATE-TIME:20260424T005921Z
UID:9e91f66e519447df553c4767086377e1
CREATED;VALUE=DATE-TIME:20120428T000000Z
CATEGORIES:Teatre
LOCATION:Sala petita de l'Ateneu - Germà Emilià, 1
COMMENT:Preu: 8 
Durada: 60 minuts
DESCRIPTION:A l'Ateneu - Programació entitats locals
URL:https://www.santceloni.cat/document.php?id=8729
END:VEVENT
END:VCALENDAR