BEGIN:VCALENDAR
VERSION:2.0
PRODID:-//Plone.org//NONSGML plone.app.event//EN
X-WR-TIMEZONE:Europe/Madrid
BEGIN:VEVENT
SUMMARY:Presentació del llibre Boscos de Catalunya
DTSTART;TZID=Europe/Madrid;VALUE=DATE-TIME:20120121T190000
DTEND;TZID=Europe/Madrid;VALUE=DATE-TIME:20120121T200000
DTSTAMP;VALUE=DATE-TIME:20260425T123458Z
UID:a2a09cad5e99228589d42f50fdb2a95b
CREATED;VALUE=DATE-TIME:20120121T000000Z
CATEGORIES:Conferència
LOCATION:Sala Bernat Martorell de Can Ramis - Pl. de la Vila, 25
ORGANIZER:Ajuntament de Sant Celoni i Llibreria Alguer 7, amb la Col·laboració d'Òmnium Cultural
DESCRIPTION:a càrrec dels Drs. Martí Boada i Fco. Javier Gómez, autors
URL:https://www.santceloni.cat/document.php?id=8758
END:VEVENT
END:VCALENDAR