BEGIN:VCALENDAR
VERSION:2.0
PRODID:-//Plone.org//NONSGML plone.app.event//EN
X-WR-TIMEZONE:Europe/Madrid
BEGIN:VEVENT
SUMMARY:Ball, a càrrec d'Esquitx
DTSTART;TZID=Europe/Madrid;VALUE=DATE-TIME:20120304T180000
DTEND;TZID=Europe/Madrid;VALUE=DATE-TIME:20120304T190000
DTSTAMP;VALUE=DATE-TIME:20260419T170252Z
UID:a64c3fb217f2169fece5cc1251f68554
CREATED;VALUE=DATE-TIME:20120304T000000Z
CATEGORIES:Dansa
LOCATION:Sala gran de l'Ateneu - Germà Emilià, 1
ORGANIZER:Esplai de Gent Gran i Ajuntament de Sant Celoni
COMMENT:Preu: 4 &euro;
DESCRIPTION:Ball a l'Ateneu
URL:https://www.santceloni.cat/document.php?id=8802
END:VEVENT
END:VCALENDAR