BEGIN:VCALENDAR
VERSION:2.0
PRODID:-//Plone.org//NONSGML plone.app.event//EN
X-WR-TIMEZONE:Europe/Madrid
BEGIN:VEVENT
SUMMARY:Hora del Conte a la Batllòria
DTSTART;TZID=Europe/Madrid;VALUE=DATE-TIME:20120210T183000
DTEND;TZID=Europe/Madrid;VALUE=DATE-TIME:20120210T193000
DTSTAMP;VALUE=DATE-TIME:20260422T023531Z
UID:aa1f703083cfff522ed743f9a5d64725
CREATED;VALUE=DATE-TIME:20120210T000000Z
CATEGORIES:Infantils
LOCATION:Biblioteca de la Batllòria - Major, 15 (la Batllòria)
DESCRIPTION:La disfressa del marcià i La pedreta de color verd, a càrrec de Mireia Vidal
URL:https://www.santceloni.cat/document.php?id=8818
END:VEVENT
END:VCALENDAR