BEGIN:VCALENDAR
VERSION:2.0
PRODID:-//Plone.org//NONSGML plone.app.event//EN
X-WR-TIMEZONE:Europe/Madrid
BEGIN:VEVENT
SUMMARY:Sant Jordi 2012
DTSTART;TZID=Europe/Madrid;VALUE=DATE-TIME:20120420T180000
DTEND;TZID=Europe/Madrid;VALUE=DATE-TIME:20120420T190000
DTSTAMP;VALUE=DATE-TIME:20260423T155547Z
UID:4d0749f25372b44098e61cd6cf754d78
CREATED;VALUE=DATE-TIME:20120420T000000Z
CATEGORIES:Exposició,Mostra,Infantils,Música
LOCATION:Biblioteca l'Escorxador, Carrer Major de Dalt, Can Ramis, Sala petita de l'Ateneu
DESCRIPTION:Activitats divendres dia 20
URL:https://www.santceloni.cat/document.php?id=9148
END:VEVENT
END:VCALENDAR