BEGIN:VCALENDAR
VERSION:2.0
PRODID:-//Plone.org//NONSGML plone.app.event//EN
X-WR-TIMEZONE:Europe/Madrid
BEGIN:VEVENT
SUMMARY:Visita guiada a les Llobateres
DTSTART;TZID=Europe/Madrid;VALUE=DATE-TIME:20120429T100000
DTEND;TZID=Europe/Madrid;VALUE=DATE-TIME:20120429T110000
DTSTAMP;VALUE=DATE-TIME:20260424T005810Z
UID:83e3c84b945f6217fc8cec23447ab26a
CREATED;VALUE=DATE-TIME:20120429T000000Z
LOCATION:Les Llobateres
DESCRIPTION:Explicació sobre el patrimoni natural i cultural de l'indret
URL:https://www.santceloni.cat/document.php?id=9155
END:VEVENT
END:VCALENDAR