BEGIN:VCALENDAR
VERSION:2.0
PRODID:-//Plone.org//NONSGML plone.app.event//EN
X-WR-TIMEZONE:Europe/Madrid
BEGIN:VEVENT
SUMMARY:Petita hora del Conte: Els sorolls i els colors de les estacions
DTSTART;TZID=Europe/Madrid;VALUE=DATE-TIME:20120608T180000
DTEND;TZID=Europe/Madrid;VALUE=DATE-TIME:20120608T190000
DTSTAMP;VALUE=DATE-TIME:20260423T234144Z
UID:f1abe4f269d6f22717cd1e78863d7085
CREATED;VALUE=DATE-TIME:20120608T000000Z
CATEGORIES:Infantils
LOCATION:Biblioteca l'Escorxador - Pg. de la Rectoria Vella, 10
DESCRIPTION:A càrrec de Raquel de Manuel
URL:https://www.santceloni.cat/document.php?id=9347
END:VEVENT
END:VCALENDAR