BEGIN:VCALENDAR
VERSION:2.0
PRODID:-//Plone.org//NONSGML plone.app.event//EN
X-WR-TIMEZONE:Europe/Madrid
BEGIN:VEVENT
SUMMARY:Concert: A dues bandes, amb Mollet Jazz Band i Jazz Band de Sant Celoni
DTSTART;TZID=Europe/Madrid;VALUE=DATE-TIME:20120705T220000
DTEND;TZID=Europe/Madrid;VALUE=DATE-TIME:20120705T230000
DTSTAMP;VALUE=DATE-TIME:20260422T190947Z
UID:d1b525af7d3deb8ac3750d8d4755af40
CREATED;VALUE=DATE-TIME:20120705T000000Z
CATEGORIES:Música
LOCATION:Plaça de la Biblioteca - Plaça de la Biblioteca
COMMENT:Durada: 50 min.
DESCRIPTION:Dijous a la fresca
URL:https://www.santceloni.cat/document.php?id=9406
END:VEVENT
END:VCALENDAR