BEGIN:VCALENDAR
VERSION:2.0
PRODID:-//Plone.org//NONSGML plone.app.event//EN
X-WR-TIMEZONE:Europe/Madrid
BEGIN:VEVENT
SUMMARY:Titelles: Safrà i Serafí, amb Txo Titelles
DTSTART;TZID=Europe/Madrid;VALUE=DATE-TIME:20120712T220000
DTEND;TZID=Europe/Madrid;VALUE=DATE-TIME:20120712T230000
DTSTAMP;VALUE=DATE-TIME:20260420T051028Z
UID:7b076a92ed4a452d1db6f9c998114365
CREATED;VALUE=DATE-TIME:20120712T000000Z
CATEGORIES:Infantils,Teatre
LOCATION:Plaça de la Biblioteca - Plaça de la Biblioteca
COMMENT:Durada: 50 min.
DESCRIPTION:Dijous a la fresca
URL:https://www.santceloni.cat/document.php?id=9410
END:VEVENT
END:VCALENDAR