BEGIN:VCALENDAR
VERSION:2.0
PRODID:-//Plone.org//NONSGML plone.app.event//EN
X-WR-TIMEZONE:Europe/Madrid
BEGIN:VEVENT
SUMMARY:El present i el futur de la cooperació al desenvolupament des dels municipis
DTSTART;TZID=Europe/Madrid;VALUE=DATE-TIME:20121117T093000
DTEND;TZID=Europe/Madrid;VALUE=DATE-TIME:20121117T103000
DTSTAMP;VALUE=DATE-TIME:20260422T063736Z
UID:93986f37b526e1147e4da239cb8966a5
CREATED;VALUE=DATE-TIME:20121117T000000Z
CATEGORIES:Conferència
LOCATION:Sala d'actes rectoria Vella - Parc de la Rectoria Vella, s/n
ORGANIZER:Coordinadora d'Entitats Solidàries
COMMENT:Durada: fins la 1 del migdia
DESCRIPTION:Sessió de reflexió
URL:https://www.santceloni.cat/document.php?id=9428
END:VEVENT
END:VCALENDAR