BEGIN:VCALENDAR
VERSION:2.0
PRODID:-//Plone.org//NONSGML plone.app.event//EN
X-WR-TIMEZONE:Europe/Madrid
BEGIN:VEVENT
SUMMARY:Cinema: Intocable, d'Olivier Nakache i Eric Toledano
DTSTART;TZID=Europe/Madrid;VALUE=DATE-TIME:20120823T220000
DTEND;TZID=Europe/Madrid;VALUE=DATE-TIME:20120823T230000
DTSTAMP;VALUE=DATE-TIME:20260423T182540Z
UID:37721d1c2e7d2efc406daf4b3b2ad0e0
CREATED;VALUE=DATE-TIME:20120823T000000Z
CATEGORIES:Cinema
LOCATION:Plaça Rafael Ferrer (Sant Ponç) - Plaça Rafael Ferrer (Sant Ponç)
COMMENT:Durada: 112 min.
DESCRIPTION:Dijous a la fresca
URL:https://www.santceloni.cat/document.php?id=9491
END:VEVENT
END:VCALENDAR