BEGIN:VCALENDAR
VERSION:2.0
PRODID:-//Plone.org//NONSGML plone.app.event//EN
X-WR-TIMEZONE:Europe/Madrid
BEGIN:VEVENT
SUMMARY:Titelles: En Pere Beneit
DTSTART;TZID=Europe/Madrid;VALUE=DATE-TIME:20120915T180000
DTEND;TZID=Europe/Madrid;VALUE=DATE-TIME:20120915T190000
DTSTAMP;VALUE=DATE-TIME:20260423T055053Z
UID:c9912527222cd24cbad692995eef81cd
CREATED;VALUE=DATE-TIME:20120915T000000Z
CATEGORIES:Infantils
LOCATION:Sala petita de l'Ateneu - Germà Emilià, 1
COMMENT:Preu: 3 
DESCRIPTION:A benefici d'una casa d'acollida de Katmandú (Nepal)
URL:https://www.santceloni.cat/document.php?id=9629
END:VEVENT
END:VCALENDAR