BEGIN:VCALENDAR
VERSION:2.0
PRODID:-//Plone.org//NONSGML plone.app.event//EN
X-WR-TIMEZONE:Europe/Madrid
BEGIN:VEVENT
SUMMARY:Festa Major 2012
DTSTART;TZID=Europe/Madrid;VALUE=DATE-TIME:20120907T183000
DTEND;TZID=Europe/Madrid;VALUE=DATE-TIME:20120907T193000
DTSTAMP;VALUE=DATE-TIME:20260423T055023Z
UID:230042522015852923618ac1c174af03
CREATED;VALUE=DATE-TIME:20120907T000000Z
CATEGORIES:Festa,Música
COMMENT:Durada: fins la matinada
DESCRIPTION:Actes de divendres, dia 7
URL:https://www.santceloni.cat/document.php?id=9630
END:VEVENT
END:VCALENDAR