BEGIN:VCALENDAR
VERSION:2.0
PRODID:-//Plone.org//NONSGML plone.app.event//EN
X-WR-TIMEZONE:Europe/Madrid
BEGIN:VEVENT
SUMMARY:XXXII torneig Festa Major de Petanca
DTSTART;TZID=Europe/Madrid;VALUE=DATE-TIME:20120902T090000
DTEND;TZID=Europe/Madrid;VALUE=DATE-TIME:20120902T100000
DTSTAMP;VALUE=DATE-TIME:20260420T064604Z
UID:207048eca2591d81684341642c074a59
CREATED;VALUE=DATE-TIME:20120902T000000Z
CATEGORIES:Esports
LOCATION:Parc de la Rectoria Vella - Parc de la Rectoria Vella
ORGANIZER:Club Petanca Sant Celoni
DESCRIPTION:Club Petanca Sant Celoni
URL:https://www.santceloni.cat/document.php?id=9662
END:VEVENT
END:VCALENDAR