BEGIN:VCALENDAR
VERSION:2.0
PRODID:-//Plone.org//NONSGML plone.app.event//EN
X-WR-TIMEZONE:Europe/Madrid
BEGIN:VEVENT
SUMMARY:Gimcana de bicicletes
DTSTART;TZID=Europe/Madrid;VALUE=DATE-TIME:20120902T100000
DTEND;TZID=Europe/Madrid;VALUE=DATE-TIME:20120902T110000
DTSTAMP;VALUE=DATE-TIME:20260420T063235Z
UID:418ad51a9c25798f37dcb1e20e7ba457
CREATED;VALUE=DATE-TIME:20120902T000000Z
CATEGORIES:Esports
LOCATION:Pàrking del pavelló - c. Esteve Cardelús - Av. Catalunya
ORGANIZER:Club Ciclista Sant Celoni i Ass. Veïns Residencial Esports
DESCRIPTION:Club Ciclista Sant Celoni
URL:https://www.santceloni.cat/document.php?id=9664
END:VEVENT
END:VCALENDAR