BEGIN:VCALENDAR
VERSION:2.0
PRODID:-//Plone.org//NONSGML plone.app.event//EN
X-WR-TIMEZONE:Europe/Madrid
BEGIN:VEVENT
SUMMARY:I Torneig de futbol PB Pitres
DTSTART;TZID=Europe/Madrid;VALUE=DATE-TIME:20120902T190000
DTEND;TZID=Europe/Madrid;VALUE=DATE-TIME:20120902T200000
DTSTAMP;VALUE=DATE-TIME:20260420T064203Z
UID:76b17d5dab6107629d37c0fd499ca5dc
CREATED;VALUE=DATE-TIME:20120902T000000Z
CATEGORIES:Esports
LOCATION:Camp Municipal d'esports - Pg. dels Esports, s/n
ORGANIZER:PB Pitres
DESCRIPTION:Penya Barcelonista Pitres
URL:https://www.santceloni.cat/document.php?id=9665
END:VEVENT
END:VCALENDAR