BEGIN:VCALENDAR
VERSION:2.0
PRODID:-//Plone.org//NONSGML plone.app.event//EN
X-WR-TIMEZONE:Europe/Madrid
BEGIN:VEVENT
SUMMARY:Festa Major 2012
DTSTART;TZID=Europe/Madrid;VALUE=DATE-TIME:20120908T090000
DTEND;TZID=Europe/Madrid;VALUE=DATE-TIME:20120908T100000
DTSTAMP;VALUE=DATE-TIME:20260422T201856Z
UID:d5e60e02df76a7623c59ff50728687fc
CREATED;VALUE=DATE-TIME:20120908T000000Z
CATEGORIES:Exposició,Mostra,Festa,Infantils,Música
COMMENT:Durada: fins la matinada
DESCRIPTION:Actes de dissabte, dia 8
URL:https://www.santceloni.cat/document.php?id=9672
END:VEVENT
END:VCALENDAR