BEGIN:VCALENDAR
VERSION:2.0
PRODID:-//Plone.org//NONSGML plone.app.event//EN
X-WR-TIMEZONE:Europe/Madrid
BEGIN:VEVENT
SUMMARY:Jazz vocal: Va d'estàndards, amb Jazz Dream
DTSTART;TZID=Europe/Madrid;VALUE=DATE-TIME:20121103T200000
DTEND;TZID=Europe/Madrid;VALUE=DATE-TIME:20121103T210000
DTSTAMP;VALUE=DATE-TIME:20260422T001809Z
UID:e21b8c308cb44ab911a1aaf8a49525ca
CREATED;VALUE=DATE-TIME:20121103T000000Z
CATEGORIES:Música
LOCATION:Sala petita de l'Ateneu - Germà Emilià, 1
COMMENT:Preu: vegeu Entrades Entrefestes 2012
Durada: 60 min.
DESCRIPTION:Entrefestes 2012
URL:https://www.santceloni.cat/document.php?id=9781
END:VEVENT
END:VCALENDAR