BEGIN:VCALENDAR
VERSION:2.0
PRODID:-//Plone.org//NONSGML plone.app.event//EN
X-WR-TIMEZONE:Europe/Madrid
BEGIN:VEVENT
SUMMARY:Coneixes la Teleassistència?
DTSTART;TZID=Europe/Madrid;VALUE=DATE-TIME:20121017T100000
DTEND;TZID=Europe/Madrid;VALUE=DATE-TIME:20121017T110000
DTSTAMP;VALUE=DATE-TIME:20260422T005707Z
UID:d61edb7ccdc325dbacd7847ede955ad8
CREATED;VALUE=DATE-TIME:20121017T000000Z
LOCATION:Sala Bernat Martorell de Can Ramis - Pl. de la Vila, 25
DESCRIPTION:Xerrada i unitat mòbil
URL:https://www.santceloni.cat/document.php?id=9850
END:VEVENT
END:VCALENDAR