BEGIN:VCALENDAR
VERSION:2.0
PRODID:-//Plone.org//NONSGML plone.app.event//EN
X-WR-TIMEZONE:Europe/Madrid
BEGIN:VEVENT
SUMMARY:Cinema: Madagascar 3. De marxa per Europa
DTSTART;TZID=Europe/Madrid;VALUE=DATE-TIME:20121027T161500
DTEND;TZID=Europe/Madrid;VALUE=DATE-TIME:20121027T171500
DTSTAMP;VALUE=DATE-TIME:20260421T231044Z
UID:cd61e912683023483b9a92a96feeab43
CREATED;VALUE=DATE-TIME:20121027T000000Z
CATEGORIES:Cinema
LOCATION:Sales Ocine - Centre Comercial Altrium - Ctra. C-35 (Porta de ponent)
ORGANIZER:Dir. Gen. de Política Lingüística - Generalitat de Catalunya
COMMENT:Preu: 4 
DESCRIPTION:Programació Cinema Infantil en Català (CINC)
URL:https://www.santceloni.cat/document.php?id=9873
END:VEVENT
END:VCALENDAR