BEGIN:VCALENDAR
VERSION:2.0
PRODID:-//Plone.org//NONSGML plone.app.event//EN
X-WR-TIMEZONE:Europe/Madrid
BEGIN:VEVENT
SUMMARY:Cinema: Les aventures de Tadeu Jones
DTSTART;TZID=Europe/Madrid;VALUE=DATE-TIME:20121110T161500
DTEND;TZID=Europe/Madrid;VALUE=DATE-TIME:20121110T171500
DTSTAMP;VALUE=DATE-TIME:20260422T080029Z
UID:62605c34ef200b86586c86bcbedaa364
CREATED;VALUE=DATE-TIME:20121110T000000Z
CATEGORIES:Cinema
LOCATION:Sales Ocine - Centre Comercial Altrium - Ctra. C-35 (Porta de ponent)
ORGANIZER:Dir. Gen. de Política Lingüística - Generalitat de Catalunya
COMMENT:Preu: 4 
DESCRIPTION:Programació Cinema Infantil en Català (CINC)
URL:https://www.santceloni.cat/document.php?id=9875
END:VEVENT
END:VCALENDAR