BEGIN:VCALENDAR
VERSION:2.0
PRODID:-//Plone.org//NONSGML plone.app.event//EN
X-WR-TIMEZONE:Europe/Madrid
BEGIN:VEVENT
SUMMARY:Gran Festa Infantil de Halloween
DTSTART;TZID=Europe/Madrid;VALUE=DATE-TIME:20121104T170000
DTEND;TZID=Europe/Madrid;VALUE=DATE-TIME:20121104T180000
DTSTAMP;VALUE=DATE-TIME:20260423T182632Z
UID:3ef9646494913f018623452a9b1db8a7
CREATED;VALUE=DATE-TIME:20121104T000000Z
CATEGORIES:Festa
LOCATION:Local Celodance - Sant Pere, 8, 2n
ORGANIZER:Club de Ball Celodance
COMMENT:Preu: gratuït
DESCRIPTION:Club de Ball Celodance
URL:https://www.santceloni.cat/document.php?id=9881
END:VEVENT
END:VCALENDAR