BEGIN:VCALENDAR
VERSION:2.0
PRODID:-//Plone.org//NONSGML plone.app.event//EN
X-WR-TIMEZONE:Europe/Madrid
BEGIN:VEVENT
SUMMARY:Animació infantil: Marrameu, amb la Cia. Top Guay
DTSTART;TZID=Europe/Madrid;VALUE=DATE-TIME:20121102T170000
DTEND;TZID=Europe/Madrid;VALUE=DATE-TIME:20121102T180000
DTSTAMP;VALUE=DATE-TIME:20260423T200406Z
UID:60cee71cec1df781af1343aae0970261
CREATED;VALUE=DATE-TIME:20121102T000000Z
CATEGORIES:Infantils
LOCATION:Sala petita de l'Ateneu - Germà Emilià, 1
COMMENT:Preu: 2 
DESCRIPTION:A la sala petita de l'Ateneu
URL:https://www.santceloni.cat/document.php?id=9889
END:VEVENT
END:VCALENDAR