BEGIN:VCALENDAR
VERSION:2.0
PRODID:-//Plone.org//NONSGML plone.app.event//EN
X-WR-TIMEZONE:Europe/Madrid
BEGIN:VEVENT
SUMMARY:III Trobada de Bornichos a Catalunya
DTSTART;TZID=Europe/Madrid;VALUE=DATE-TIME:20121104T120000
DTEND;TZID=Europe/Madrid;VALUE=DATE-TIME:20121104T130000
DTSTAMP;VALUE=DATE-TIME:20260423T200524Z
UID:ba4b5e960b618c1451f5fa87d9ca08bb
CREATED;VALUE=DATE-TIME:20121104T000000Z
CATEGORIES:Mostra,Festa
LOCATION:Pista coberta Camp Municipal d'Esports - Pg. dels Esports, s/n
ORGANIZER:Associació de Bornichos a Catalunya
COMMENT:Preu: infants: 10 &euro;. Adults: 20 &euro;.
Seients numerats. Reserves fins el 30 d'octubre
DESCRIPTION:Associació de Bornichos a Catalunya
URL:https://www.santceloni.cat/document.php?id=9892
END:VEVENT
END:VCALENDAR