BEGIN:VCALENDAR
VERSION:2.0
PRODID:-//Plone.org//NONSGML plone.app.event//EN
X-WR-TIMEZONE:Europe/Madrid
BEGIN:VEVENT
SUMMARY:Pel·lícula: El cisne negro, de D. Aronofski
DTSTART;TZID=Europe/Madrid;VALUE=DATE-TIME:20121104T180000
DTEND;TZID=Europe/Madrid;VALUE=DATE-TIME:20121104T190000
DTSTAMP;VALUE=DATE-TIME:20260423T200554Z
UID:5d18907e3911327095969098afdb22de
CREATED;VALUE=DATE-TIME:20121104T000000Z
CATEGORIES:Cinema
LOCATION:Sala petita de l'Ateneu - Germà Emilià, 1
COMMENT:Preu: gratuït
DESCRIPTION:Cinema a l'Ateneu
URL:https://www.santceloni.cat/document.php?id=9893
END:VEVENT
END:VCALENDAR