BEGIN:VCALENDAR
VERSION:2.0
PRODID:-//Plone.org//NONSGML plone.app.event//EN
X-WR-TIMEZONE:Europe/Madrid
BEGIN:VEVENT
SUMMARY:IV Campionat medieval de tir amb arc
DTSTART;TZID=Europe/Madrid;VALUE=DATE-TIME:20121110T100000
DTEND;TZID=Europe/Madrid;VALUE=DATE-TIME:20121110T110000
DTSTAMP;VALUE=DATE-TIME:20260423T182555Z
UID:cfc40472b7dbe9ea729dc50a12c07e24
CREATED;VALUE=DATE-TIME:20121110T000000Z
CATEGORIES:Esports
LOCATION:Zona del Pont Trencat
ORGANIZER:Club Arc Sant Celoni
DESCRIPTION:Festes de Sant Martí 2012
URL:https://www.santceloni.cat/document.php?id=9903
END:VEVENT
END:VCALENDAR