BEGIN:VCALENDAR
VERSION:2.0
PRODID:-//Plone.org//NONSGML plone.app.event//EN
X-WR-TIMEZONE:Europe/Madrid
BEGIN:VEVENT
SUMMARY:Presentació del 10è número de la col·lecció Anatomia del Còmic Celoní
DTSTART;TZID=Europe/Madrid;VALUE=DATE-TIME:20121110T180000
DTEND;TZID=Europe/Madrid;VALUE=DATE-TIME:20121110T190000
DTSTAMP;VALUE=DATE-TIME:20260423T025255Z
UID:f5d98e41acea509d38a7e5f839d12f48
CREATED;VALUE=DATE-TIME:20121110T000000Z
CATEGORIES:Conferència
LOCATION:Sala Bernat Martorell de Can Ramis - Pl. de la Vila, 25
DESCRIPTION:Festes de Sant Martí 2012
URL:https://www.santceloni.cat/document.php?id=9908
END:VEVENT
END:VCALENDAR