BEGIN:VCALENDAR
VERSION:2.0
PRODID:-//Plone.org//NONSGML plone.app.event//EN
X-WR-TIMEZONE:Europe/Madrid
BEGIN:VEVENT
SUMMARY:Màgia: Instants, amb la Cia. Mag Edgard
DTSTART;TZID=Europe/Madrid;VALUE=DATE-TIME:20121110T190000
DTEND;TZID=Europe/Madrid;VALUE=DATE-TIME:20121110T200000
DTSTAMP;VALUE=DATE-TIME:20260422T112032Z
UID:eab9f88c1d15744d66e5b75b5a254c52
CREATED;VALUE=DATE-TIME:20121110T000000Z
CATEGORIES:Teatre
LOCATION:Sala gran de l'Ateneu - Germà Emilià, 1
COMMENT:Preu: general: 8 &euro;
menors de 12 anys: 4 &euro;
DESCRIPTION:Festes de Sant Martí 2012
URL:https://www.santceloni.cat/document.php?id=9909
END:VEVENT
END:VCALENDAR