BEGIN:VCALENDAR
VERSION:2.0
PRODID:-//Plone.org//NONSGML plone.app.event//EN
X-WR-TIMEZONE:Europe/Madrid
BEGIN:VEVENT
SUMMARY:Sessió de DJ's
DTSTART;TZID=Europe/Madrid;VALUE=DATE-TIME:20121110T230000
DTEND;TZID=Europe/Madrid;VALUE=DATE-TIME:20121111T000000
DTSTAMP;VALUE=DATE-TIME:20260422T112057Z
UID:1b976389b3c12085e33a1636685a6dec
CREATED;VALUE=DATE-TIME:20121110T000000Z
CATEGORIES:Música
LOCATION:Sala gran de l'Ateneu - Germà Emilià, 1
COMMENT:Preu: 3 &euro;
DESCRIPTION:Festes de Sant Martí 2012
URL:https://www.santceloni.cat/document.php?id=9910
END:VEVENT
END:VCALENDAR