BEGIN:VCALENDAR
VERSION:2.0
PRODID:-//Plone.org//NONSGML plone.app.event//EN
X-WR-TIMEZONE:Europe/Madrid
BEGIN:VEVENT
SUMMARY:Concert clàssica: MONTblancafortSALVATGE
DTSTART;TZID=Europe/Madrid;VALUE=DATE-TIME:20121116T200000
DTEND;TZID=Europe/Madrid;VALUE=DATE-TIME:20121116T210000
DTSTAMP;VALUE=DATE-TIME:20260422T011251Z
UID:396e176fdc3713ac8588f04afc2bb333
CREATED;VALUE=DATE-TIME:20121116T000000Z
CATEGORIES:Música
LOCATION:Sala gran de l'Ateneu - Germà Emilià, 1
COMMENT:Preu: 3 &euro;
DESCRIPTION:Festes de Sant Martí 2012
URL:https://www.santceloni.cat/document.php?id=9926
END:VEVENT
END:VCALENDAR