BEGIN:VCALENDAR
VERSION:2.0
PRODID:-//Plone.org//NONSGML plone.app.event//EN
X-WR-TIMEZONE:Europe/Madrid
BEGIN:VEVENT
SUMMARY:Presentació llibre: Las raíces cósmicas de la vida, de Josep Ma. Trigo
DTSTART;TZID=Europe/Madrid;VALUE=DATE-TIME:20121116T200000
DTEND;TZID=Europe/Madrid;VALUE=DATE-TIME:20121116T210000
DTSTAMP;VALUE=DATE-TIME:20260422T191145Z
UID:9b37618da76ada808c046f0b3d6ea79b
CREATED;VALUE=DATE-TIME:20121116T000000Z
CATEGORIES:Literatura,Conferència
LOCATION:Sala Bernat Martorell de Can Ramis - Pl. de la Vila, 25
ORGANIZER:Llibreria Alguer 7
DESCRIPTION:Festes de Sant Martí 2012
URL:https://www.santceloni.cat/document.php?id=9927
END:VEVENT
END:VCALENDAR