BEGIN:VCALENDAR
VERSION:2.0
PRODID:-//Plone.org//NONSGML plone.app.event//EN
X-WR-TIMEZONE:Europe/Madrid
BEGIN:VEVENT
SUMMARY:Nens i nenes, nenes i nens, amb la Cia. Rondallaire
DTSTART;TZID=Europe/Madrid;VALUE=DATE-TIME:20121123T180000
DTEND;TZID=Europe/Madrid;VALUE=DATE-TIME:20121123T190000
DTSTAMP;VALUE=DATE-TIME:20260423T141013Z
UID:68b6e45df2286f42de63ec153f9573ce
CREATED;VALUE=DATE-TIME:20121123T000000Z
CATEGORIES:Infantils
LOCATION:Biblioteca l'Escorxador - Pg. de la Rectoria Vella, 10
DESCRIPTION:Hora del Conte
URL:https://www.santceloni.cat/document.php?id=9939
END:VEVENT
END:VCALENDAR